BEGIN:VCALENDAR
VERSION:2.0
PRODID:-//chikkutakku.com//RDFCal 1.0//EN
X-WR-CALDESC:GoogleカレンダーやiCalendar形式情報を共有シェ
 アしましょう。近所のイベントから全国のイベントま
 で今日のイベント検索やスケジュールを決めるならち
 っくたっく
X-WR-CALNAME:ちっくたっく
X-WR-TIMEZONE:UTC
BEGIN:VEVENT
SUMMARY:とびきり簡単！もっちりふわふわ 豆腐でつくる
 米粉パン
DTSTART;VALUE=DATE:20260517
DTEND;VALUE=DATE:20260518
UID:287173523539
DESCRIPTION:2026-05-18とびきり簡単！もっちりふわふわ 豆腐
 でつくる米粉パン沼津 りえナツメ社
LOCATION:
END:VEVENT
END:VCALENDAR
