BEGIN:VCALENDAR
VERSION:2.0
PRODID:-//chikkutakku.com//RDFCal 1.0//EN
X-WR-CALDESC:GoogleカレンダーやiCalendar形式情報を共有シェ
 アしましょう。近所のイベントから全国のイベントま
 で今日のイベント検索やスケジュールを決めるならち
 っくたっく
X-WR-CALNAME:ちっくたっく
X-WR-TIMEZONE:UTC
BEGIN:VEVENT
SUMMARY:平民出身の帝国将官、無能な貴族上官を蹂躙して
 成り上がる5
DTSTART;VALUE=DATE:20260519
DTEND;VALUE=DATE:20260520
UID:287498446697
DESCRIPTION:2026-05-20平民出身の帝国将官、無能な貴族上官
 を蹂躙して成り上がる5花音 小坂/くろぎりKADOKAWA
LOCATION:
END:VEVENT
END:VCALENDAR
