BEGIN:VCALENDAR
VERSION:2.0
PRODID:-//chikkutakku.com//RDFCal 1.0//EN
X-WR-CALDESC:GoogleカレンダーやiCalendar形式情報を共有シェ
 アしましょう。近所のイベントから全国のイベントま
 で今日のイベント検索やスケジュールを決めるならち
 っくたっく
X-WR-CALNAME:ちっくたっく
X-WR-TIMEZONE:UTC
BEGIN:VEVENT
SUMMARY:【Android 対応】限界まで走れ！朝活シャトルラン
 ！
DTSTART;VALUE=DATE-TIME:20260424T233000Z
DTEND;VALUE=DATE-TIME:20260425T003000Z
UID:287691804081
DESCRIPTION:【イベント主催者】\n　maguro_\n【イベント内容
 】\n　腕を振れば振るほど速く移動できるワールドで、
 シャトルランを行います。\n初めての方でも大歓迎です
 ！(最初にルール説明を行います)\n運動したい方の参加
 お待ちしてます！\n【イベントジャンル】\n　その他交
 流会\n【参加条件（モデル、人数制限など）】\n　VRモ
 ードのみ\n【参加方法】\n　maguro_ にフレンド申請後Join\
 n【備考】\n　5/3(日)にはシャトルラン大会を行います。
 \nよければそちらもチェックしてくれると嬉しいです！
LOCATION:
END:VEVENT
END:VCALENDAR
