BEGIN:VCALENDAR
VERSION:2.0
PRODID:-//chikkutakku.com//RDFCal 1.0//EN
X-WR-CALDESC:GoogleカレンダーやiCalendar形式情報を共有シェ
 アしましょう。近所のイベントから全国のイベントま
 で今日のイベント検索やスケジュールを決めるならち
 っくたっく
X-WR-CALNAME:ちっくたっく
X-WR-TIMEZONE:UTC
BEGIN:VEVENT
SUMMARY:Sport vs Winterton (Home)
DTSTART;VALUE=DATE:20260505
DTEND;VALUE=DATE:20260506
UID:288161671624
DESCRIPTION:Netball: u9\, u11 and 1st Team\nGirls Hockey: u10 and u11\nBoy
 s Hockey: 1st Team
LOCATION:
END:VEVENT
END:VCALENDAR
