BEGIN:VCALENDAR
VERSION:2.0
PRODID:-//chikkutakku.com//RDFCal 1.0//EN
X-WR-CALDESC:GoogleカレンダーやiCalendar形式情報を共有シェ
 アしましょう。近所のイベントから全国のイベントま
 で今日のイベント検索やスケジュールを決めるならち
 っくたっく
X-WR-CALNAME:ちっくたっく
X-WR-TIMEZONE:UTC
BEGIN:VEVENT
SUMMARY:子宮頸部病理・コルポスコピーの手引き
DTSTART;VALUE=DATE:20260517
DTEND;VALUE=DATE:20260518
UID:288467222538
DESCRIPTION:2026-05-18子宮頸部病理・コルポスコピーの手引
 き公益社団法人 日本婦人科腫瘍学会 子宮頸部病理・コ
 ルポスコピー小委員会/藤井 多久磨/小田 瑞恵/三上 芳
 喜メジカルビュー社
LOCATION:
END:VEVENT
END:VCALENDAR
