BEGIN:VCALENDAR
VERSION:2.0
PRODID:-//chikkutakku.com//RDFCal 1.0//EN
X-WR-CALDESC:GoogleカレンダーやiCalendar形式情報を共有シェ
 アしましょう。近所のイベントから全国のイベントま
 で今日のイベント検索やスケジュールを決めるならち
 っくたっく
X-WR-CALNAME:ちっくたっく
X-WR-TIMEZONE:UTC
BEGIN:VEVENT
SUMMARY:Dia Mundial da Língua Portuguesa（世界ポルトガル語の日
 ）
DTSTART;VALUE=DATE-TIME:20260504T150000Z
DTEND;VALUE=DATE-TIME:20260505T150000Z
UID:288596659083
DESCRIPTION:もともとポルトガル語諸国共同体 (CPLP) によっ
 て CPLP 文化の日とされていた
LOCATION:
END:VEVENT
END:VCALENDAR
