BEGIN:VCALENDAR
VERSION:2.0
PRODID:-//chikkutakku.com//RDFCal 1.0//EN
X-WR-CALDESC:GoogleカレンダーやiCalendar形式情報を共有シェ
 アしましょう。近所のイベントから全国のイベントま
 で今日のイベント検索やスケジュールを決めるならち
 っくたっく
X-WR-CALNAME:ちっくたっく
X-WR-TIMEZONE:UTC
BEGIN:VEVENT
SUMMARY:SK1079 I Thessalonians 5:12-28 Steve Krause
DTSTART;VALUE=DATE-TIME:20260503T150000Z
DTEND;VALUE=DATE-TIME:20260503T170000Z
UID:289366556679
DESCRIPTION:SK1079 I Thessalonians 5:12-28 Steve Krause
LOCATION:Calvary Chapel of Manitowoc\, 1208 S 10th St\, Manitowoc\, WI 542
 20\, USA
END:VEVENT
END:VCALENDAR
