BEGIN:VCALENDAR
VERSION:2.0
PRODID:-//chikkutakku.com//RDFCal 1.0//EN
X-WR-CALDESC:GoogleカレンダーやiCalendar形式情報を共有シェ
 アしましょう。近所のイベントから全国のイベントま
 で今日のイベント検索やスケジュールを決めるならち
 っくたっく
X-WR-CALNAME:ちっくたっく
X-WR-TIMEZONE:UTC
BEGIN:VEVENT
SUMMARY:建設業経営 第11号
DTSTART;VALUE=DATE:20260422
DTEND;VALUE=DATE:20260423
UID:290049406658
DESCRIPTION:2026-04-23建設業経営 第11号一般財団法人 建設産
 業経理研究機構一般財団法人 建設産業経理研究機構
LOCATION:
END:VEVENT
END:VCALENDAR
