BEGIN:VCALENDAR
VERSION:2.0
PRODID:-//chikkutakku.com//RDFCal 1.0//EN
X-WR-CALDESC:GoogleカレンダーやiCalendar形式情報を共有シェ
 アしましょう。近所のイベントから全国のイベントま
 で今日のイベント検索やスケジュールを決めるならち
 っくたっく
X-WR-CALNAME:ちっくたっく
X-WR-TIMEZONE:UTC
BEGIN:VEVENT
SUMMARY:SHS League Pole Vault Only Meet HOME
DTSTART;VALUE=DATE-TIME:20260513T190000Z
DTEND;VALUE=DATE-TIME:20260513T210000Z
UID:291132289909
DESCRIPTION:SHS League Pole Vault Only Meet HOME
LOCATION:
END:VEVENT
END:VCALENDAR
