BEGIN:VCALENDAR
VERSION:2.0
PRODID:-//chikkutakku.com//RDFCal 1.0//EN
X-WR-CALDESC:GoogleカレンダーやiCalendar形式情報を共有シェ
 アしましょう。近所のイベントから全国のイベントま
 で今日のイベント検索やスケジュールを決めるならち
 っくたっく
X-WR-CALNAME:ちっくたっく
X-WR-TIMEZONE:UTC
BEGIN:VEVENT
SUMMARY:【新】名探偵コナン #1197 「旋風のコスプレライ
 ダー」
DTSTART;VALUE=DATE-TIME:20260425T133000Z
DTEND;VALUE=DATE-TIME:20260425T140000Z
UID:291313212690
DESCRIPTION:1197 / 旋風のコスプレライダー / ([[名探偵コナ
 ンチャンネル https://abema.tv/timetable/channels/conan]])今回か
 ら放送スタート
LOCATION:ABEMA特設その他
END:VEVENT
END:VCALENDAR
