BEGIN:VCALENDAR
VERSION:2.0
PRODID:-//chikkutakku.com//RDFCal 1.0//EN
X-WR-CALDESC:GoogleカレンダーやiCalendar形式情報を共有シェ
 アしましょう。近所のイベントから全国のイベントま
 で今日のイベント検索やスケジュールを決めるならち
 っくたっく
X-WR-CALNAME:ちっくたっく
X-WR-TIMEZONE:UTC
BEGIN:VEVENT
SUMMARY:小林さんちのメイドラゴンS #4 「郷に入りては郷
 に従え(合わせるって大変です)」
DTSTART;VALUE=DATE-TIME:20260424T170000Z
DTEND;VALUE=DATE-TIME:20260424T173000Z
UID:291613315524
DESCRIPTION:4 / 郷に入りては郷に従え(合わせるって大変で
 す) / 
LOCATION:BS12トゥエルビ
END:VEVENT
END:VCALENDAR
