BEGIN:VCALENDAR
VERSION:2.0
PRODID:-//chikkutakku.com//RDFCal 1.0//EN
X-WR-CALDESC:GoogleカレンダーやiCalendar形式情報を共有シェ
 アしましょう。近所のイベントから全国のイベントま
 で今日のイベント検索やスケジュールを決めるならち
 っくたっく
X-WR-CALNAME:ちっくたっく
X-WR-TIMEZONE:UTC
BEGIN:VEVENT
SUMMARY:渋谷　七面鳥　【定期】
DTSTART;VALUE=DATE-TIME:20260515T150000Z
DTEND;VALUE=DATE-TIME:20260515T150000Z
UID:292090672972
DESCRIPTION:渋谷　七面鳥\nhttp://www.7mentyo.com/\n\nOpen 19:00\, St
 art 19:30\n1\,500円+Drink600円\n※無料レンタル楽器／アコギ
 ・アップライトピアノ \n※オケ使用の場合はオケCDをご
 持参下さい
LOCATION:渋谷区道玄坂2-14-17
END:VEVENT
END:VCALENDAR
