BEGIN:VCALENDAR
VERSION:2.0
PRODID:-//chikkutakku.com//RDFCal 1.0//EN
X-WR-CALDESC:GoogleカレンダーやiCalendar形式情報を共有シェ
 アしましょう。近所のイベントから全国のイベントま
 で今日のイベント検索やスケジュールを決めるならち
 っくたっく
X-WR-CALNAME:ちっくたっく
X-WR-TIMEZONE:UTC
BEGIN:VEVENT
SUMMARY:PIPS ICORE Match 1
DTSTART;VALUE=DATE-TIME:20260426T140000Z
DTEND;VALUE=DATE-TIME:20260426T190000Z
UID:292094049386
DESCRIPTION:Pine Island Practical Shooters (www.piwpsc.org/pips) ICORE Mat
 ch. Cost: $15. Contact is Craig at minnesota.icore@gmail.com.
LOCATION:155 White Pines Road SE Pine Island\, MN 55963
END:VEVENT
END:VCALENDAR
