BEGIN:VCALENDAR
VERSION:2.0
PRODID:-//chikkutakku.com//RDFCal 1.0//EN
X-WR-CALDESC:GoogleカレンダーやiCalendar形式情報を共有シェ
 アしましょう。近所のイベントから全国のイベントま
 で今日のイベント検索やスケジュールを決めるならち
 っくたっく
X-WR-CALNAME:ちっくたっく
X-WR-TIMEZONE:UTC
BEGIN:VEVENT
SUMMARY:第二回ブルーアーカイブキヴォトス交流会
DTSTART;VALUE=DATE-TIME:20260425T130000Z
DTEND;VALUE=DATE-TIME:20260425T140000Z
UID:292491044369
DESCRIPTION:【イベント主催者】\n　Seulbi\n【イベント内容
 】\n　ブルーアーカイブ交流会\n【イベントジャンル】\
 n　改変アバター交流会\, その他交流会\, ロールプレイ\
 n【参加条件（モデル、人数制限など）】\n　ブルーア
 ーカイブアバターのみ\n【参加方法】\n　グループイン
 スタンス\n【備考】\n　
LOCATION:
END:VEVENT
END:VCALENDAR
