BEGIN:VCALENDAR
VERSION:2.0
PRODID:-//chikkutakku.com//RDFCal 1.0//EN
X-WR-CALDESC:GoogleカレンダーやiCalendar形式情報を共有シェ
 アしましょう。近所のイベントから全国のイベントま
 で今日のイベント検索やスケジュールを決めるならち
 っくたっく
X-WR-CALNAME:ちっくたっく
X-WR-TIMEZONE:UTC
BEGIN:VEVENT
SUMMARY:ガレット No.37
DTSTART;VALUE=DATE:20260430
DTEND;VALUE=DATE:20260501
UID:292863697145
DESCRIPTION:2026-05-01ガレット No.37袴田めら/デルタ/桜家ゆ
 きの/犬井あゆ/ネコハリコ22/ガレットワークスクロスフ
 ォリオ出版
LOCATION:
END:VEVENT
END:VCALENDAR
