BEGIN:VCALENDAR
VERSION:2.0
PRODID:-//chikkutakku.com//RDFCal 1.0//EN
X-WR-CALDESC:GoogleカレンダーやiCalendar形式情報を共有シェ
 アしましょう。近所のイベントから全国のイベントま
 で今日のイベント検索やスケジュールを決めるならち
 っくたっく
X-WR-CALNAME:ちっくたっく
X-WR-TIMEZONE:UTC
BEGIN:VEVENT
SUMMARY:【注】聖剣使いの禁呪詠唱 #1 転生せし者 / #2 我
 が剣に宿れ魔焔 / #3 冥府の魔女 / #4 白騎士強襲 / #5 We Ar
 e The・夏 / #6 我ら、救世の剣なり / #7 銀髪の異邦人 / #8 
 魔剣と聖剣 / #9 シベリア行 / #10 決戦・エカテリンブル
 ク / #11 悪夢は前世より / #12 二つの生を越え
DTSTART;VALUE=DATE-TIME:20260423T050000Z
DTEND;VALUE=DATE-TIME:20260423T110000Z
UID:292931960395
DESCRIPTION: / #1 転生せし者 / #2 我が剣に宿れ魔焔 / #3 冥
 府の魔女 / #4 白騎士強襲 / #5 We Are The・夏 / #6 我ら、救
 世の剣なり / #7 銀髪の異邦人 / #8 魔剣と聖剣 / #9 シベ
 リア行 / #10 決戦・エカテリンブルク / #11 悪夢は前世よ
 り / #12 二つの生を越え / https://abema.tv/channels/late-night-ani
 me/slots/EvABQs1PvcUKLb リピート放送は 20:00～ https://abema.tv/ch
 annels/anime-special-2/slots/AkN7WQCp7i5MzP (アニメSPECIAL2チャンネ
 ル) 、4/24(金) 8:00～ https://abema.tv/channels/late-night-anime/slots
 /AkN7WhaKnx48zK (無料TS1週間)
LOCATION:深夜アニメ
END:VEVENT
END:VCALENDAR
