BEGIN:VCALENDAR
VERSION:2.0
PRODID:-//chikkutakku.com//RDFCal 1.0//EN
X-WR-CALDESC:GoogleカレンダーやiCalendar形式情報を共有シェ
 アしましょう。近所のイベントから全国のイベントま
 で今日のイベント検索やスケジュールを決めるならち
 っくたっく
X-WR-CALNAME:ちっくたっく
X-WR-TIMEZONE:UTC
BEGIN:VEVENT
SUMMARY:Sio Bar
DTSTART;VALUE=DATE-TIME:20260424T125500Z
DTEND;VALUE=DATE-TIME:20260424T140000Z
UID:293009323847
DESCRIPTION:【イベント主催者】\n　うみUwU\n【イベント内
 容】\n　SIOちゃんが接客するBarイベント\n【イベントジ
 ャンル】\n　改変アバター交流会\, その他交流会\, VR飲
 み会\, 店舗系イベント\, 定期イベント\n【参加条件（モ
 デル、人数制限など）】\n　PC onry\n【参加方法】\n　グ
 ループjoin\n【備考】\n　https://vrc.group/SIOBAR.0978 ←グルー
 プリンク
LOCATION:
END:VEVENT
END:VCALENDAR
