BEGIN:VCALENDAR
VERSION:2.0
PRODID:-//chikkutakku.com//RDFCal 1.0//EN
X-WR-CALDESC:GoogleカレンダーやiCalendar形式情報を共有シェ
 アしましょう。近所のイベントから全国のイベントま
 で今日のイベント検索やスケジュールを決めるならち
 っくたっく
X-WR-CALNAME:ちっくたっく
X-WR-TIMEZONE:UTC
BEGIN:VEVENT
SUMMARY:【注】リズと青い鳥 
DTSTART;VALUE=DATE-TIME:20260421T105900Z
DTEND;VALUE=DATE-TIME:20260421T122900Z
UID:293227753868
DESCRIPTION: /  / https://www.youtube.com/watch?v=skbbBhk6VCI (プレミ
 ア公開) アーカイブ配信：4月22日(水)12:00まで https://anime
 -eupho.com/news/?id=679
LOCATION:YouTube
END:VEVENT
END:VCALENDAR
