BEGIN:VCALENDAR
VERSION:2.0
PRODID:-//chikkutakku.com//RDFCal 1.0//EN
X-WR-CALDESC:GoogleカレンダーやiCalendar形式情報を共有シェ
 アしましょう。近所のイベントから全国のイベントま
 で今日のイベント検索やスケジュールを決めるならち
 っくたっく
X-WR-CALNAME:ちっくたっく
X-WR-TIMEZONE:UTC
BEGIN:VEVENT
SUMMARY:World Challenge Leadership Training Day (Seniors)
DTSTART;VALUE=DATE-TIME:20260423T210000Z
DTEND;VALUE=DATE-TIME:20260424T023000Z
UID:293290694828
DESCRIPTION:World Challenge Leadership Training Day (Seniors)
LOCATION:(Vehicle)-Vans-Sports Centre Car Park-Minivan: Toyota QYS524 (9 s
 eater excluding driver) automatic. Driver must hold a full NZ driving lice
 nce and aged over 25 years (9)
END:VEVENT
END:VCALENDAR
