BEGIN:VCALENDAR
VERSION:2.0
PRODID:-//chikkutakku.com//RDFCal 1.0//EN
X-WR-CALDESC:GoogleカレンダーやiCalendar形式情報を共有シェ
 アしましょう。近所のイベントから全国のイベントま
 で今日のイベント検索やスケジュールを決めるならち
 っくたっく
X-WR-CALNAME:ちっくたっく
X-WR-TIMEZONE:UTC
BEGIN:VEVENT
SUMMARY:カラオケBAR猫電逃
DTSTART;VALUE=DATE-TIME:20260424T120000Z
DTEND;VALUE=DATE-TIME:20260424T130000Z
UID:293398143580
DESCRIPTION:【イベント主催者】\n　ぽかん。\n【イベント
 内容】\n　ジャンル自由のカラオケBar！\nお酒を飲みな
 がらダラダラ歌いましょう！\n※スタッフも歌う場合が
 あるので、聞き専の方も参加OKです。\n#猫電逃_VRC\n【イ
 ベントジャンル】\n　音楽系イベント\, 定期イベント\n
 【参加条件（モデル、人数制限など）】\n　スタッフへ
 のフレンド申請\nスタッフへの嫌がらせ、迷惑行為、嫌
 がる行為\nNSFWに分類される行為・表現\n過度なパーティ
 クルや大きな音が鳴るアバターの使用\n無許可の録画、
 配信\n50MB以下のアバター利用にご協力ください。\n【参
 加方法】\n　グループインスタンスへのJoin\n【備考】\n
 　Xアカウント:https://x.com/Nekodento_VRC\nグループ:https://vrc.
 group/NEKDT.0441
LOCATION:
END:VEVENT
END:VCALENDAR
