BEGIN:VCALENDAR
VERSION:2.0
PRODID:-//chikkutakku.com//RDFCal 1.0//EN
X-WR-CALDESC:GoogleカレンダーやiCalendar形式情報を共有シェ
 アしましょう。近所のイベントから全国のイベントま
 で今日のイベント検索やスケジュールを決めるならち
 っくたっく
X-WR-CALNAME:ちっくたっく
X-WR-TIMEZONE:UTC
BEGIN:VEVENT
SUMMARY:Reversible Tote or NOT
DTSTART;VALUE=DATE-TIME:20260523T190000Z
DTEND;VALUE=DATE-TIME:20260523T230000Z
UID:293502471910
DESCRIPTION:MATERIAL NEEDED(2) 18” x 18” Main fabric\, non-directional
  fabric can be 18” x 36”(2) 18” x 18” Lining fabric\, non-directio
 nal fabric can be 18” x 36”(1)  18” x 36” Fusible interfacing***
 *(2) 18” x 5” Main fabric (handles) or nylon strapping to match fabric
 (2) 18’ x 5” Interfacing ****If you are sewing together the tumblers p
 lease get a bag of tumblers from Eva\, the instructions on how to sew them
  together are inside the bag.  ****If you want a firmer bag you will nee
 d to bring the interfacing. The sample bags don’t have any interfacing.C
 utting instruction if before class – NONEIf you are using tumblers for y
 our fabric those all need to be sewn together.  Eva has the set of tumbl
 ers for you with instructions on how to sew the tumblers together. Please
  bring your basic sewing kit. Coordinating Threads and Matching Bobbins½ 
 Day Class doe does not supply a needle.  90/14 is needed. A needle can a
 lso be purchased from the club the day of class. Call Jolene Piaskowski 4
 02 212 4188 for any questions.
LOCATION:
END:VEVENT
END:VCALENDAR
