BEGIN:VCALENDAR
VERSION:2.0
PRODID:-//chikkutakku.com//RDFCal 1.0//EN
X-WR-CALDESC:GoogleカレンダーやiCalendar形式情報を共有シェ
 アしましょう。近所のイベントから全国のイベントま
 で今日のイベント検索やスケジュールを決めるならち
 っくたっく
X-WR-CALNAME:ちっくたっく
X-WR-TIMEZONE:UTC
BEGIN:VEVENT
SUMMARY:京都市ホンキートンク
DTSTART;VALUE=DATE-TIME:20260503T100000Z
DTEND;VALUE=DATE-TIME:20260503T120000Z
UID:293718125576
DESCRIPTION:京都市ホンキートンク
LOCATION:ホンキートンク\, 日本、〒606-0015 京都府京都市
 左京区岩倉幡枝町１０４０
END:VEVENT
END:VCALENDAR
