BEGIN:VCALENDAR
VERSION:2.0
PRODID:-//chikkutakku.com//RDFCal 1.0//EN
X-WR-CALDESC:GoogleカレンダーやiCalendar形式情報を共有シェ
 アしましょう。近所のイベントから全国のイベントま
 で今日のイベント検索やスケジュールを決めるならち
 っくたっく
X-WR-CALNAME:ちっくたっく
X-WR-TIMEZONE:UTC
BEGIN:VEVENT
SUMMARY:AI時代のセキュリティ教育 なぜサイバー攻撃から
 企業を守れないのか？
DTSTART;VALUE=DATE:20260514
DTEND;VALUE=DATE:20260515
UID:294189446655
DESCRIPTION:2026-05-15AI時代のセキュリティ教育 なぜサイバ
 ー攻撃から企業を守れないのか？坪井暁人/藤居朋之ク
 ロスメディア・パブリッシング
LOCATION:
END:VEVENT
END:VCALENDAR
