BEGIN:VCALENDAR
VERSION:2.0
PRODID:-//chikkutakku.com//RDFCal 1.0//EN
X-WR-CALDESC:GoogleカレンダーやiCalendar形式情報を共有シェ
 アしましょう。近所のイベントから全国のイベントま
 で今日のイベント検索やスケジュールを決めるならち
 っくたっく
X-WR-CALNAME:ちっくたっく
X-WR-TIMEZONE:UTC
BEGIN:VEVENT
SUMMARY:Beloved Women's Holy Hour (C)
DTSTART;VALUE=DATE-TIME:20260114T060000Z
DTEND;VALUE=DATE-TIME:20260514T050000Z
UID:294606941340
DESCRIPTION:CHURCH\nMichelle Macicek\n\n通过 Google Meet 加入：https:
 //meet.google.com/ycy-tgeu-jxs\n或者拨打以下号码：(US) +1 682-305
 -7866 PIN 码： 464035067#\n更多电话号码: https://tel.meet/ycy-tgeu
 -jxs?pin=1940483393838&hs=7\n\n如需详细了解 Google Meet，请访问
 ：https://support.google.com/a/users/answer/9282720
LOCATION:
END:VEVENT
END:VCALENDAR
