BEGIN:VCALENDAR
VERSION:2.0
PRODID:-//chikkutakku.com//RDFCal 1.0//EN
X-WR-CALDESC:GoogleカレンダーやiCalendar形式情報を共有シェ
 アしましょう。近所のイベントから全国のイベントま
 で今日のイベント検索やスケジュールを決めるならち
 っくたっく
X-WR-CALNAME:ちっくたっく
X-WR-TIMEZONE:UTC
BEGIN:VEVENT
SUMMARY:Cross Country: Logan Park Road Race\, Caledonian
DTSTART;VALUE=DATE:20260506
DTEND;VALUE=DATE:20260507
UID:294629148683
DESCRIPTION:Cross Country: Logan Park Road Race\, Caledonian
LOCATION:
END:VEVENT
END:VCALENDAR
