BEGIN:VCALENDAR
VERSION:2.0
PRODID:-//chikkutakku.com//RDFCal 1.0//EN
X-WR-CALDESC:GoogleカレンダーやiCalendar形式情報を共有シェ
 アしましょう。近所のイベントから全国のイベントま
 で今日のイベント検索やスケジュールを決めるならち
 っくたっく
X-WR-CALNAME:ちっくたっく
X-WR-TIMEZONE:UTC
BEGIN:VEVENT
SUMMARY:CHESS | Laerskool Hendrik Louw Primary School (HOME - Round #2)
DTSTART;VALUE=DATE-TIME:20260508T113000Z
DTEND;VALUE=DATE-TIME:20260508T130000Z
UID:296273579448
DESCRIPTION:Chess
LOCATION:Somerset College\, Bredell Road (off the R44 between Stellenbosch
  and Somerset West\, Somerset West\, Cape Town\, South Africa
END:VEVENT
END:VCALENDAR
