BEGIN:VCALENDAR
VERSION:2.0
PRODID:-//chikkutakku.com//RDFCal 1.0//EN
X-WR-CALDESC:GoogleカレンダーやiCalendar形式情報を共有シェ
 アしましょう。近所のイベントから全国のイベントま
 で今日のイベント検索やスケジュールを決めるならち
 っくたっく
X-WR-CALNAME:ちっくたっく
X-WR-TIMEZONE:UTC
BEGIN:VEVENT
SUMMARY:U14、TRM
DTSTART;VALUE=DATE-TIME:20260425T230000Z
DTEND;VALUE=DATE-TIME:20260426T020000Z
UID:296645548457
DESCRIPTION:9時 vs エルマーノ（25分×4）\n\n※参加費800円\n\
 n※メンバーは決まり次第掲載します。\n\n※担当\n森本
 監督、北山コーチ
LOCATION:鶴見緑地第2球技場\, 日本、〒538-0035 大阪府大阪
 市鶴見区浜１丁目１−１
END:VEVENT
END:VCALENDAR
