BEGIN:VCALENDAR
VERSION:2.0
PRODID:-//chikkutakku.com//RDFCal 1.0//EN
X-WR-CALDESC:GoogleカレンダーやiCalendar形式情報を共有シェ
 アしましょう。近所のイベントから全国のイベントま
 で今日のイベント検索やスケジュールを決めるならち
 っくたっく
X-WR-CALNAME:ちっくたっく
X-WR-TIMEZONE:UTC
BEGIN:VEVENT
SUMMARY:【注】DEATH NOTE #11 突入 / #12 恋心 / #13 告白 / #14 友
 達 / #15 賭け / #16 決断 / #17 執行 / #18 仲間 / #19 松田
DTSTART;VALUE=DATE-TIME:20260421T043000Z
DTEND;VALUE=DATE-TIME:20260421T090000Z
UID:297002230611
DESCRIPTION: / #11 突入 / #12 恋心 / #13 告白 / #14 友達 / #15 賭
 け / #16 決断 / #17 執行 / #18 仲間 / #19 松田 / https://abema.tv
 /channels/00s-anime-1/slots/EvABQFiitsTZy1 リピート放送は 22:00～ 
 https://abema.tv/channels/00s-anime-1/slots/AkN7aLsshYRnx7 (無料TS1週
 間) https://prtimes.jp/main/html/rd/p/000002968.000064643.html
LOCATION:なつかしアニメ00's
END:VEVENT
END:VCALENDAR
