BEGIN:VCALENDAR
VERSION:2.0
PRODID:-//chikkutakku.com//RDFCal 1.0//EN
X-WR-CALDESC:GoogleカレンダーやiCalendar形式情報を共有シェ
 アしましょう。近所のイベントから全国のイベントま
 で今日のイベント検索やスケジュールを決めるならち
 っくたっく
X-WR-CALNAME:ちっくたっく
X-WR-TIMEZONE:UTC
BEGIN:VEVENT
SUMMARY:【犬カフェ】ぽめまる喫茶 ぽめらに庵
DTSTART;VALUE=DATE-TIME:20260425T115000Z
DTEND;VALUE=DATE-TIME:20260425T131000Z
UID:297283454521
DESCRIPTION:【イベント主催者】\n　伏田ポチ\n【イベント
 内容】\n　【犬カフェ風ロールプレイングイベント】\n
 ローテーション卓制イベント！！\nたくさんのぽめらに
 あんとわちゃわちゃ！！\n\n少人数制なので無言勢もイ
 ベント初心者も安心！！\nかわいいわんちゃんと一緒に
 遊びませんか？\n\n春のいぶきがやってきた！！\n20時50
 分にインスタンスひらくよ〜ん！！\n\n【コンセプト】\
 n万年桜に囲まれた、秘密のお家ぽめらに庵\n人の言葉
 が分かる不思議な犬、「ぽめまる」達は今日も貴方が
 訪れるのを待っています！\n【イベントジャンル】\n　
 店舗系イベント\, ロールプレイ\, 初心者向けイベント\,
  定期イベント\n【参加条件（モデル、人数制限など）
 】\n　【参加条件（モデル、人数制限など）】\n人型の
 アバターでもわんちゃんでもおっけー！\n\n　＊イベン
 ト内の禁止事項\n・キャストへのフレンド申請\n・イベ
 ント中の動画撮影・配信行為\n・ダウンロード容量50MB
 を超えるアバター、過度なパーティクルの使用\n・暴力
 表現、公序良俗に反するアバターの使用\n【参加方法】
 \n　グループ【https://vrc.group/POME.2541】のリンクを踏んで
 参加！\nもしくはVRC内でPOME.2541で検索して参加！\n\nグ
 ループインスタンスを20:50から開きます！！\n開いてる
 タイミングでいつでも入ってきてね〜〜！！！！\n【備
 考】\n　Xで詳細はつぶやいています！→ https://t.co/hAilxj
 GQJX
LOCATION:
END:VEVENT
END:VCALENDAR
