BEGIN:VCALENDAR
VERSION:2.0
PRODID:-//chikkutakku.com//RDFCal 1.0//EN
X-WR-CALDESC:GoogleカレンダーやiCalendar形式情報を共有シェ
 アしましょう。近所のイベントから全国のイベントま
 で今日のイベント検索やスケジュールを決めるならち
 っくたっく
X-WR-CALNAME:ちっくたっく
X-WR-TIMEZONE:UTC
BEGIN:VEVENT
SUMMARY:モーニング 2026年21号 [2026年4月23日発売]
DTSTART;VALUE=DATE:20260422
DTEND;VALUE=DATE:20260423
UID:298222261384
DESCRIPTION:2026-04-23モーニング 2026年21号 [2026年4月23日発売
 ]モーニング編集部/やじま冬美/ツジトモ/綱本将也/出端
 祐大/福本伸行/常盤ギヨ/伊藤一角/見ル野栄司/アビディ
 井上/なきぼくろ/濱田轟天/瀬下猛/木城ゆきと/須賀達郎
 /鈴木コイチ/オキモト・シュウ/鈴鹿久美子/林田もずる/
 とりのなん子/山下和美/イズミダフユキ/江口夏実/ＮＯ
 Ｎ/田素弘/那珂川/菅原こゆび/後藤亜由夢/後谷戸隆/我
 孫子楽人/三原和人/山村東講談社
LOCATION:
END:VEVENT
END:VCALENDAR
