BEGIN:VCALENDAR
VERSION:2.0
PRODID:-//chikkutakku.com//RDFCal 1.0//EN
X-WR-CALDESC:GoogleカレンダーやiCalendar形式情報を共有シェ
 アしましょう。近所のイベントから全国のイベントま
 で今日のイベント検索やスケジュールを決めるならち
 っくたっく
X-WR-CALNAME:ちっくたっく
X-WR-TIMEZONE:UTC
BEGIN:VEVENT
SUMMARY:プラムちゃんカフェ＆Bar めるぷらむ
DTSTART;VALUE=DATE-TIME:20260512T130000Z
DTEND;VALUE=DATE-TIME:20260512T143000Z
UID:298400009915
DESCRIPTION:【イベント主催者】\n　ないちぃ\n【イベント
 内容】\n　※今回はBarイベント\n\nキャストはプラムち
 ゃんonly！\nお酒片手にのんびりおしゃべりしませんか
 ？\nぜひフレンドさんとお越しください\n【イベントジ
 ャンル】\n　VR飲み会\, 店舗系イベント\n【参加条件（
 モデル、人数制限など）】\n　イベントからのお願い\n
 ・PC版only\n・アバター容量５０MB未満制限\n・アバター
 の身長は１６０ｃｍまで\n・版権アバターの着用禁止\n
 ・アバターギミックの使用禁止（ポーズシステムなど
 の便利系をのぞく）\n・イベント中フレンド申請はNG。\
 n・公序良俗に反する事の禁止\n・動画撮影、配信等は
 イベント通して（アフターを含む）禁止（事前承認の
 上、許可。お問い合わせは公式XのDMまで）\n【参加方法
 】\n　開催時間になったら当グループが立てるグループ
 orグループ＋インスタンスにジョイン\n【備考】\n　
LOCATION:
END:VEVENT
END:VCALENDAR
