BEGIN:VCALENDAR
VERSION:2.0
PRODID:-//chikkutakku.com//RDFCal 1.0//EN
X-WR-CALDESC:GoogleカレンダーやiCalendar形式情報を共有シェ
 アしましょう。近所のイベントから全国のイベントま
 で今日のイベント検索やスケジュールを決めるならち
 っくたっく
X-WR-CALNAME:ちっくたっく
X-WR-TIMEZONE:UTC
BEGIN:VEVENT
SUMMARY:WSO PTA Spring Regal Foods Pick-Up 
DTSTART;VALUE=DATE-TIME:20260425T190000Z
DTEND;VALUE=DATE-TIME:20260425T220000Z
UID:299026197635
DESCRIPTION:WSO PTA Spring Regal Foods Pick-Up 
LOCATION:
END:VEVENT
END:VCALENDAR
