BEGIN:VCALENDAR
VERSION:2.0
PRODID:-//chikkutakku.com//RDFCal 1.0//EN
X-WR-CALDESC:GoogleカレンダーやiCalendar形式情報を共有シェ
 アしましょう。近所のイベントから全国のイベントま
 で今日のイベント検索やスケジュールを決めるならち
 っくたっく
X-WR-CALNAME:ちっくたっく
X-WR-TIMEZONE:UTC
BEGIN:VEVENT
SUMMARY:【Android 対応】ロールプレイ猫カフェ【MaNEco】
DTSTART;VALUE=DATE-TIME:20260425T110000Z
DTEND;VALUE=DATE-TIME:20260425T120000Z
UID:299068227564
DESCRIPTION:【イベント主催者】\n　つじゃむ_tsujamu\n【イ
 ベント内容】\n　参加者が猫になりきるロールプレイ猫
 カフェです。猫を愛でたい方や現実の猫が好きな方も
 大歓迎です！！\n参加方法▶︎Groupインスタンスにjoin。
 Group＋で開催！！\nGroupID▶︎MANECO.7458\n参加条件▶︎猫
 になりたい人、猫が好きな人、撫でるのが好きな人。\n
 【イベントジャンル】\n　アバター試着会\, 改変アバタ
 ー交流会\, ロールプレイ\, 初心者向けイベント\n【参加
 条件（モデル、人数制限など）】\n　\n【参加方法】\n
 　\n【備考】\n　
LOCATION:
END:VEVENT
END:VCALENDAR
