BEGIN:VCALENDAR
VERSION:2.0
PRODID:-//chikkutakku.com//RDFCal 1.0//EN
X-WR-CALDESC:GoogleカレンダーやiCalendar形式情報を共有シェ
 アしましょう。近所のイベントから全国のイベントま
 で今日のイベント検索やスケジュールを決めるならち
 っくたっく
X-WR-CALNAME:ちっくたっく
X-WR-TIMEZONE:UTC
BEGIN:VEVENT
SUMMARY:(前売1d) Aurora 定期公演 第2話『Night Night DanSING!!』
DTSTART;VALUE=DATE-TIME:20260421T111500Z
DTEND;VALUE=DATE-TIME:20260421T121500Z
UID:299096909970
DESCRIPTION:<a href="https://ticketdive.com/event/aurora_teiki2">https://t
 icketdive.com/event/aurora_teiki2</a><br>Aurora 定期公演 第2話『Nig
 ht Night DanSING!!』<br>公演日時<br>2026/4/21(火)<br>開場時刻 20
 :00 / 開演時刻 20:15<br>会場<br>渋谷CHEALSEA HOTEL<br>出演<br>Au
 rora
LOCATION:渋谷CHEALSEA HOTEL
END:VEVENT
END:VCALENDAR
