BEGIN:VCALENDAR
VERSION:2.0
PRODID:-//chikkutakku.com//RDFCal 1.0//EN
X-WR-CALDESC:GoogleカレンダーやiCalendar形式情報を共有シェ
 アしましょう。近所のイベントから全国のイベントま
 で今日のイベント検索やスケジュールを決めるならち
 っくたっく
X-WR-CALNAME:ちっくたっく
X-WR-TIMEZONE:UTC
BEGIN:VEVENT
SUMMARY:浪速セキュリティ勉強会#15：ペンテストCTFで学ぶ
 サイバーセキュリティ2026年5月4日
DTSTART;VALUE=DATE-TIME:20260504T040000Z
DTEND;VALUE=DATE-TIME:20260504T083000Z
UID:299903088961
DESCRIPTION:https://naniwasecurity.connpass.com/event/391488/
LOCATION:大阪府大阪市中央区南船場4丁目10-21
END:VEVENT
END:VCALENDAR
