BEGIN:VCALENDAR
VERSION:2.0
PRODID:-//chikkutakku.com//RDFCal 1.0//EN
X-WR-CALDESC:GoogleカレンダーやiCalendar形式情報を共有シェ
 アしましょう。近所のイベントから全国のイベントま
 で今日のイベント検索やスケジュールを決めるならち
 っくたっく
X-WR-CALNAME:ちっくたっく
X-WR-TIMEZONE:UTC
BEGIN:VEVENT
SUMMARY:LiD/APD（聞き取り困難症/聴覚情報処理障害）バー(
 APD当事者会APS@apd_peer)
DTSTART;VALUE=DATE:20260522
DTEND;VALUE=DATE:20260523
UID:300146150145
DESCRIPTION:LiD/APD（聞き取り困難症/聴覚情報処理障害）バ
 ー(APD当事者会APS@apd_peer)
LOCATION:
END:VEVENT
END:VCALENDAR
