BEGIN:VCALENDAR
VERSION:2.0
PRODID:-//chikkutakku.com//RDFCal 1.0//EN
X-WR-CALDESC:GoogleカレンダーやiCalendar形式情報を共有シェ
 アしましょう。近所のイベントから全国のイベントま
 で今日のイベント検索やスケジュールを決めるならち
 っくたっく
X-WR-CALNAME:ちっくたっく
X-WR-TIMEZONE:UTC
BEGIN:VEVENT
SUMMARY:TBS「THE神業チャレンジ」（スタジオゲスト：髙地
 優吾）
DTSTART;VALUE=DATE-TIME:20260421T100000Z
DTEND;VALUE=DATE-TIME:20260421T110000Z
UID:301074412187
DESCRIPTION:https://x.com/saigenkamiwaza/status/2045446572289446177
LOCATION:テレビ
END:VEVENT
END:VCALENDAR
