BEGIN:VCALENDAR
VERSION:2.0
PRODID:-//chikkutakku.com//RDFCal 1.0//EN
X-WR-CALDESC:GoogleカレンダーやiCalendar形式情報を共有シェ
 アしましょう。近所のイベントから全国のイベントま
 で今日のイベント検索やスケジュールを決めるならち
 っくたっく
X-WR-CALNAME:ちっくたっく
X-WR-TIMEZONE:UTC
BEGIN:VEVENT
SUMMARY:Nelson Dressage Gp
DTSTART;VALUE=DATE:20260425
DTEND;VALUE=DATE:20260426
UID:301185109726
DESCRIPTION:Winter Series 1 - Category = Local - Email = nelsondressageent
 ries@gmail.com
LOCATION:Rough Island Equestrian Park
END:VEVENT
END:VCALENDAR
