BEGIN:VCALENDAR
VERSION:2.0
PRODID:-//chikkutakku.com//RDFCal 1.0//EN
X-WR-CALDESC:GoogleカレンダーやiCalendar形式情報を共有シェ
 アしましょう。近所のイベントから全国のイベントま
 で今日のイベント検索やスケジュールを決めるならち
 っくたっく
X-WR-CALNAME:ちっくたっく
X-WR-TIMEZONE:UTC
BEGIN:VEVENT
SUMMARY:隠れ肉食のイケメンシェフに溺愛されてます 【
 完全版】5
DTSTART;VALUE=DATE:20260519
DTEND;VALUE=DATE:20260520
UID:301687915511
DESCRIPTION:2026-05-20隠れ肉食のイケメンシェフに溺愛され
 てます 【完全版】5海環/麻生璃藤クリーク・アンド・
 リバー社
LOCATION:
END:VEVENT
END:VCALENDAR
