BEGIN:VCALENDAR
VERSION:2.0
PRODID:-//chikkutakku.com//RDFCal 1.0//EN
X-WR-CALDESC:GoogleカレンダーやiCalendar形式情報を共有シェ
 アしましょう。近所のイベントから全国のイベントま
 で今日のイベント検索やスケジュールを決めるならち
 っくたっく
X-WR-CALNAME:ちっくたっく
X-WR-TIMEZONE:UTC
BEGIN:VEVENT
SUMMARY:教育系YouTuberセイウチ塾の公務員試験 数的推理 
 テキストいらずのすごい問題集
DTSTART;VALUE=DATE:20260520
DTEND;VALUE=DATE:20260521
UID:301705499631
DESCRIPTION:2026-05-21教育系YouTuberセイウチ塾の公務員試験 
 数的推理 テキストいらずのすごい問題集セイウチ塾KADO
 KAWA
LOCATION:
END:VEVENT
END:VCALENDAR
