BEGIN:VCALENDAR
VERSION:2.0
PRODID:-//chikkutakku.com//RDFCal 1.0//EN
X-WR-CALDESC:GoogleカレンダーやiCalendar形式情報を共有シェ
 アしましょう。近所のイベントから全国のイベントま
 で今日のイベント検索やスケジュールを決めるならち
 っくたっく
X-WR-CALNAME:ちっくたっく
X-WR-TIMEZONE:UTC
BEGIN:VEVENT
SUMMARY:Bike Rodeo 
DTSTART;VALUE=DATE-TIME:20260516T150000Z
DTEND;VALUE=DATE-TIME:20260516T170000Z
UID:301800736688
DESCRIPTION:11th Annual Bike Rodeo on Saturday\, May 16\, 2026\, from 10
 :00 AM to 12:00 PM\, held at River’s Edge Hospital.
LOCATION:
END:VEVENT
END:VCALENDAR
