BEGIN:VCALENDAR
VERSION:2.0
PRODID:-//chikkutakku.com//RDFCal 1.0//EN
X-WR-CALDESC:GoogleカレンダーやiCalendar形式情報を共有シェ
 アしましょう。近所のイベントから全国のイベントま
 で今日のイベント検索やスケジュールを決めるならち
 っくたっく
X-WR-CALNAME:ちっくたっく
X-WR-TIMEZONE:UTC
BEGIN:VEVENT
SUMMARY:どろーん部【初めての方歓迎】【飛ばして遊ぼう
 】
DTSTART;VALUE=DATE-TIME:20260428T120000Z
DTEND;VALUE=DATE-TIME:20260428T130000Z
UID:302865268992
DESCRIPTION:【イベント主催者】\n　TommFPV\n【イベント内容
 】\n　未経験＆初心者向けのドローン体験イベントです
 \n【イベントジャンル】\n　初心者向けイベント\, 定期
 イベント\n【参加条件（モデル、人数制限など）】\n　\
 n【参加方法】\n　グループインスタンスにjoin\n【備考
 】\n　https://vrchat.com/home/group/grp_826aec72-4591-4d7e-be5c-351cb326
 a3b6
LOCATION:
END:VEVENT
END:VCALENDAR
