BEGIN:VCALENDAR
VERSION:2.0
PRODID:-//chikkutakku.com//RDFCal 1.0//EN
X-WR-CALDESC:GoogleカレンダーやiCalendar形式情報を共有シェ
 アしましょう。近所のイベントから全国のイベントま
 で今日のイベント検索やスケジュールを決めるならち
 っくたっく
X-WR-CALNAME:ちっくたっく
X-WR-TIMEZONE:UTC
BEGIN:VEVENT
SUMMARY:最強の職業は勇者でも賢者でもなく鑑定士(仮)ら
 しいですよ？ #3 「前代未聞です」
DTSTART;VALUE=DATE-TIME:20260423T140000Z
DTEND;VALUE=DATE-TIME:20260423T143000Z
UID:302899198911
DESCRIPTION:3 / 前代未聞です / 
LOCATION:AT-X
END:VEVENT
END:VCALENDAR
