BEGIN:VCALENDAR
VERSION:2.0
PRODID:-//chikkutakku.com//RDFCal 1.0//EN
X-WR-CALDESC:GoogleカレンダーやiCalendar形式情報を共有シェ
 アしましょう。近所のイベントから全国のイベントま
 で今日のイベント検索やスケジュールを決めるならち
 っくたっく
X-WR-CALNAME:ちっくたっく
X-WR-TIMEZONE:UTC
BEGIN:VEVENT
SUMMARY:🖤池袋comfy\n『Comfy Live vol.72』
DTSTART;VALUE=DATE-TIME:20260424T104000Z
DTEND;VALUE=DATE-TIME:20260424T130000Z
UID:303164735535
DESCRIPTION:2026年4月24日(金)\n『Comfy Live vol.72』\n\n会場：池
 袋comfy\n時間：開場 19:40 / 開演 19:50\n料金：1\,400円（1D
 代別）\n※ドリンク代のみキャッシュレス決済可能(+100
 円)\n撮影券：1組 1\,000円\n配信：1\,000円\n【出演者】\nCro
 ire Grato-クログラ-\nリベルナント\nMihiro\n\n＜4.24 配信＞\n
 https://premier.twitcasting.tv/c:ndc0501/shopcart/430979\n\n19:50-20:15 
 リベルナント(25)\n20:15-20:40 Mihiro(25)\n20:40-21:05 Croire Grato-
 クログラ-(25)\n　21:05-21:10 調整時間(5)\n21:10-22:00 終演後
 物販(50)\n\nお目当て特典：3\,000円以上購入で囲み写メ\n
 ※あおみゆ
LOCATION:池袋comfy\, 日本、〒171-0014 東京都豊島区池袋２丁
 目２４−６ ジャズビル B1F
END:VEVENT
END:VCALENDAR
