BEGIN:VCALENDAR
VERSION:2.0
PRODID:-//chikkutakku.com//RDFCal 1.0//EN
X-WR-CALDESC:GoogleカレンダーやiCalendar形式情報を共有シェ
 アしましょう。近所のイベントから全国のイベントま
 で今日のイベント検索やスケジュールを決めるならち
 っくたっく
X-WR-CALNAME:ちっくたっく
X-WR-TIMEZONE:UTC
BEGIN:VEVENT
SUMMARY:【本格型ホストRPイベント】CLUB ONE NIGHT
DTSTART;VALUE=DATE-TIME:20260425T130000Z
DTEND;VALUE=DATE-TIME:20260425T140000Z
UID:303590109816
DESCRIPTION:【イベント主催者】\n　ONE NIGHT GROUP(グループID
 ：CLUB.3847)\n【イベント内容】\n　今回のCLUB ONE NIGHTは一
 周年記念キャンペーンによりジョインした方全員接客
 となります。\n\n元リアルホスト経験者監修による本格
 型ホストクラブイベント。\n10分3ローテーションで個性
 的なキャストによる魅惑的な接客が体験できます。\n\n
 当イベント独自のオリジナルシステムにより気に入っ
 たキャストへシャンパンやタワーを入れることもでき
 、イベント終了時には当日のランキング発表もござい
 ます。\n※今回は注文等は行えません。\n\nイベント未
 経験者の方、イベントジャンキーの方でも十分に楽し
 める内容となっておりますので、\n最高の担当と、最高
 の一夜をお楽しみください。\n【イベントジャンル】\n
 　改変アバター交流会\, その他交流会\, VR飲み会\, 店舗
 系イベント\, ロールプレイ\, 初心者向けイベント\, 定
 期イベント\n【参加条件（モデル、人数制限など）】\n
 　・NSFWに該当する行為\n・高負荷なパーティクルや視
 界ジャック\n・100MB以上の過度なアバター\n・キャスト
 の嫌がる行為（過度な接触・暴言・つきまとい等）は
 禁止です。\n・会場内でのトラブル、迷惑行為が確認さ
 れた場合はスタッフの判断で退場とさせていただきま
 す。\n・1階席は混雑時、入場制限を行う場合がござい
 ます。\n・配信・撮影を行う場合は、事前に運営までご
 確認ください。\n【参加方法】\n　ONE NIGHT GROUP(グループ
 ID：CLUB.3847)へ加入の上、当日グループインスタンスよ
 りジョイン\n【備考】\n　公式Xアカウント：@CLUB_ONENIGHT
LOCATION:
END:VEVENT
END:VCALENDAR
