BEGIN:VCALENDAR
VERSION:2.0
PRODID:-//chikkutakku.com//RDFCal 1.0//EN
X-WR-CALDESC:GoogleカレンダーやiCalendar形式情報を共有シェ
 アしましょう。近所のイベントから全国のイベントま
 で今日のイベント検索やスケジュールを決めるならち
 っくたっく
X-WR-CALNAME:ちっくたっく
X-WR-TIMEZONE:UTC
BEGIN:VEVENT
SUMMARY:MUSIC | World in Union Concert (Whole school)
DTSTART;VALUE=DATE-TIME:20260507T160000Z
DTEND;VALUE=DATE-TIME:20260507T183000Z
UID:303701309960
DESCRIPTION:WORLD in UNIONJoin the Somerset College Music Department on a 
 musical journey\, seeking unity through harmony.DATE: Wednesday\, 6 May an
 d Thursday\, 7 May 2026TIME: 18:30 – 20:00VENUE: Helderberg GemeenteSome
 rset College invites the community to join them on a musical journey\, Wo
 rld in Union - celebrating unity through harmony in a globally representa
 tive programme. This two-evening event will take place on Wednesday\, 6 Ma
 y and Thursday\, 7 May\, from 18:30 to 20:00 at Helderberg Gemeente.Experi
 ence Prep School and Senior School ensembles\, including choirs\, orchestr
 as\, marimba bands\, jazz bands\, and soloists\, performing favourites suc
 h as From a Distance\, Hot Gates\, The Lion Sleeps Tonight\, Libertango\,
  Africa\, and the finale World in Union.Tickets are available on Quicket
 Bookings link: https://tinyurl.com/4r8kah3t Adults @ R120Students @ R60
 Somerset College Staff @ Free (Only one ticket per person for Wednesday 
 6 May)NameGradeAlec Hobson8Atli Maponya8Emily Wierenga8Ethan Howell-Viljoe
 n8Georgina Myrmingos8Hayley Ashton8Lethokuhle Gule8Naomi-Grace Ojo8Nicolas
  Solomons8Phile Ntuli8Ryder Mitchell8Zoe Nieuwoudt8Christopher Cook9Ellen 
 Redelinghuys9Grace Lee9Lia Gabrielides9Liam Allwood9Louis Bosman9Mishika H
 ariprasad9Preyan Naidu9Sofia Kroger9Aerin Hart10Azania Cossa10Caitlin Cron
 je10Caitlin Jolly10Danielle Roux10Daria Roeloffs10Ethan McGregor10Haleema 
 Khalfey10Hannah Smit10Helen Nkonde10Jenna Cormack10Katelyn Siljeur10Liza v
 an Niekerk10Luca Schreuder10Matteo Mion10Mia Brewer10Milla Pietersen10Oliv
 ia Castelden10Rebecca Shuttleworth10Samantha Reyneke10Zhanna Appelby10Albe
 rt Beukman11Alex Theunissen11Deon Bruwer11Hannah Thurman11Jana Ochsenbein1
 1Janice Mipando11Liam Akdogan11Maggie Yanda11Makai Mitchell11Maya Priede11
 Michael Vivier11Petrus Bosman11Rebecca Eedes11Rocco da Silva11Skye Priede1
 1Tio Omotoso11Caitlin Leybrandt12Jaydah McKay12Josh Roesch12Kayla Geldenhu
 ys12Kirstin Reyneke12Milan Williams12Naomi Smit12Olivia Schlaphoff12Proud 
 Nyathi12Tanatswa Mapanzure12Thea van Zyl12Zhen Wang12
LOCATION:Dutch Reformed Church Helderberg\, 82 Firmount Road\, Goede Hoop\
 , Cape Town\, 7130\, South Africa
END:VEVENT
END:VCALENDAR
