BEGIN:VCALENDAR
VERSION:2.0
PRODID:-//chikkutakku.com//RDFCal 1.0//EN
X-WR-CALDESC:GoogleカレンダーやiCalendar形式情報を共有シェ
 アしましょう。近所のイベントから全国のイベントま
 で今日のイベント検索やスケジュールを決めるならち
 っくたっく
X-WR-CALNAME:ちっくたっく
X-WR-TIMEZONE:UTC
BEGIN:VEVENT
SUMMARY:(13時半)翠玉講談会～神田翠月にまつわる演目を
 読む会～
DTSTART;VALUE=DATE:20260423
DTEND;VALUE=DATE:20260424
UID:303739151422
DESCRIPTION:出演：神田菫花「スーパーカブ誕生物語」\n　
 　　田ノ中星之助「栗橋宿」、\n　　　神田織音「秀吉
 に翻弄された姫　江」\n　　　神田昌味「情けの三味線
 」\n開場：13時　開演：13時半\n料金：予約2000円・当日25
 ​00円\nご予約はらくごカフェまで\nrak​ugocafe@hotm​ail.c
 o.jp　 \n電話03-6268-9818（​平日​12時～18時まで）
LOCATION:
END:VEVENT
END:VCALENDAR
