BEGIN:VCALENDAR
VERSION:2.0
PRODID:-//chikkutakku.com//RDFCal 1.0//EN
X-WR-CALDESC:GoogleカレンダーやiCalendar形式情報を共有シェ
 アしましょう。近所のイベントから全国のイベントま
 で今日のイベント検索やスケジュールを決めるならち
 っくたっく
X-WR-CALNAME:ちっくたっく
X-WR-TIMEZONE:UTC
BEGIN:VEVENT
SUMMARY:17:00ユンファソン
DTSTART;VALUE=DATE:20260424
DTEND;VALUE=DATE:20260425
UID:304004812433
DESCRIPTION:【ユンファソン live schedule】  ◇2026年4月25日(
 土)  サタデーナイトジャズクラブ 大阪 大丸心斎橋 本
 館地2階フードホール内 エスカレーター西側 https://daimar
 u.co.jp/shinsaibashi/jazzclub/ Vo&amp\;Tp #ユンファソンPf #オカダ
 トモヤBass #魚谷のぶまさ 観覧無料17:00/18:00/19:00
LOCATION:
END:VEVENT
END:VCALENDAR
