BEGIN:VCALENDAR
VERSION:2.0
PRODID:-//chikkutakku.com//RDFCal 1.0//EN
X-WR-CALDESC:GoogleカレンダーやiCalendar形式情報を共有シェ
 アしましょう。近所のイベントから全国のイベントま
 で今日のイベント検索やスケジュールを決めるならち
 っくたっく
X-WR-CALNAME:ちっくたっく
X-WR-TIMEZONE:UTC
BEGIN:VEVENT
SUMMARY:オカマスナック『やカマし‼️』
DTSTART;VALUE=DATE-TIME:20260422T115500Z
DTEND;VALUE=DATE-TIME:20260422T125000Z
UID:304801389408
DESCRIPTION:【イベント主催者】\n　さわらママ＆もるママ
 \n【イベント内容】\n　「ツラいこと、苦しいこと、全
 部ここで忘れていきなさ～い‼️」\nVRChatで一番やかま
 しいスナックイベント、『やカマし‼️』へようこそ
 💋\nオカマはあなたの全てを受け入れるわ・・💕\n【
 イベントジャンル】\n　VR飲み会\, 店舗系イベント\n【
 参加条件（モデル、人数制限など）】\n　　@OkamaBarYKMS
 　←Xフォローしなさいッ!!!!!\n\n【参加方法】\n　　あ
 なたのご来店、おまちしてるワ……\n20:55にツリーに記
 載のアカウントへ1回だけリクインを送るのよ!!!\n\nhttps:
 //vrchat.com/home/user/usr_356f0f00-928c-48ad-b612-7500cdc15382\n【備考
 】\n　
LOCATION:
END:VEVENT
END:VCALENDAR
