BEGIN:VCALENDAR
VERSION:2.0
PRODID:-//chikkutakku.com//RDFCal 1.0//EN
X-WR-CALDESC:GoogleカレンダーやiCalendar形式情報を共有シェ
 アしましょう。近所のイベントから全国のイベントま
 で今日のイベント検索やスケジュールを決めるならち
 っくたっく
X-WR-CALNAME:ちっくたっく
X-WR-TIMEZONE:UTC
BEGIN:VEVENT
SUMMARY:売上が下がっても利益が増える 会社のお金の残
 し方
DTSTART;VALUE=DATE:20260521
DTEND;VALUE=DATE:20260522
UID:305214057408
DESCRIPTION:2026-05-22売上が下がっても利益が増える 会社の
 お金の残し方太田 朝子/入口 純子日本実業出版社
LOCATION:
END:VEVENT
END:VCALENDAR
